BEGIN:VCALENDAR
VERSION:2.0
PRODID:-//Deutsch-Brasilianische Gesellschaft e.V. - ECPv6.15.20//NONSGML v1.0//EN
CALSCALE:GREGORIAN
METHOD:PUBLISH
X-WR-CALNAME:Deutsch-Brasilianische Gesellschaft e.V.
X-ORIGINAL-URL:https://deutschland-brasilien.org
X-WR-CALDESC:Veranstaltungen für Deutsch-Brasilianische Gesellschaft e.V.
REFRESH-INTERVAL;VALUE=DURATION:PT1H
X-Robots-Tag:noindex
X-PUBLISHED-TTL:PT1H
BEGIN:VTIMEZONE
TZID:Europe/Berlin
BEGIN:DAYLIGHT
TZOFFSETFROM:+0100
TZOFFSETTO:+0200
TZNAME:CEST
DTSTART:20250330T010000
END:DAYLIGHT
BEGIN:STANDARD
TZOFFSETFROM:+0200
TZOFFSETTO:+0100
TZNAME:CET
DTSTART:20251026T010000
END:STANDARD
BEGIN:DAYLIGHT
TZOFFSETFROM:+0100
TZOFFSETTO:+0200
TZNAME:CEST
DTSTART:20260329T010000
END:DAYLIGHT
BEGIN:STANDARD
TZOFFSETFROM:+0200
TZOFFSETTO:+0100
TZNAME:CET
DTSTART:20261025T010000
END:STANDARD
BEGIN:DAYLIGHT
TZOFFSETFROM:+0100
TZOFFSETTO:+0200
TZNAME:CEST
DTSTART:20270328T010000
END:DAYLIGHT
BEGIN:STANDARD
TZOFFSETFROM:+0200
TZOFFSETTO:+0100
TZNAME:CET
DTSTART:20271031T010000
END:STANDARD
END:VTIMEZONE
BEGIN:VEVENT
DTSTART;TZID=Europe/Berlin:20260422T113000
DTEND;TZID=Europe/Berlin:20260422T130000
DTSTAMP:20260420T061712
CREATED:20260419T155523Z
LAST-MODIFIED:20260419T155523Z
UID:10000376-1776857400-1776862800@deutschland-brasilien.org
SUMMARY:Próxima online-"Sprechstunde Uni Potsdam Brasil" em 22/abril - divulgação/arte
DESCRIPTION:Evento online sobre a Uni Potsdam\, na Alemanha! \nO programa mensal da Universidade de Potsdam no Brasil\, inscrições em: https://bit.ly/uni-potsdam-sprechstunde57 \nNo dia 22/04\, estaremos com dois convidados que trabalham no Max Planck Institute of Colloids and Interfaces em Potsdam desde 2024. A Gabrielle Melo é formada em Engenharia Química pela Universidade Federal de Alagoas e atualmente doutoranda na TU Berlim\, Samuel Vitor Saraiva também se graduou na Universidade Federal de Alagoas e fez mestrado e doutorado em Engenharia Química na Unicamp\, atualmente sendo Pós-Doutorando em Potsdam. \nComo sempre\, haverá rodada de conversas\, Q&A\, muitas informações e um sorteio. PARTICIPE!
URL:https://deutschland-brasilien.org/veranstaltung/proxima-online-sprechstunde-uni-potsdam-brasil-em-22-abril-divulgacao-arte/
LOCATION:Online\, Bundesweit / Online
CATEGORIES:Wissenschaft | Ciências
ATTACH;FMTTYPE=image/jpeg:https://deutschland-brasilien.org/wp-content/uploads/2026/04/Uni-Potsdam-Brasil.jpg
END:VEVENT
END:VCALENDAR