BEGIN:VCALENDAR
VERSION:2.0
PRODID:-//Deutsch-Brasilianische Gesellschaft e.V. - ECPv6.15.20//NONSGML v1.0//EN
CALSCALE:GREGORIAN
METHOD:PUBLISH
X-WR-CALNAME:Deutsch-Brasilianische Gesellschaft e.V.
X-ORIGINAL-URL:https://deutschland-brasilien.org
X-WR-CALDESC:Veranstaltungen für Deutsch-Brasilianische Gesellschaft e.V.
REFRESH-INTERVAL;VALUE=DURATION:PT1H
X-Robots-Tag:noindex
X-PUBLISHED-TTL:PT1H
BEGIN:VTIMEZONE
TZID:Europe/Berlin
BEGIN:DAYLIGHT
TZOFFSETFROM:+0100
TZOFFSETTO:+0200
TZNAME:CEST
DTSTART:20250330T010000
END:DAYLIGHT
BEGIN:STANDARD
TZOFFSETFROM:+0200
TZOFFSETTO:+0100
TZNAME:CET
DTSTART:20251026T010000
END:STANDARD
BEGIN:DAYLIGHT
TZOFFSETFROM:+0100
TZOFFSETTO:+0200
TZNAME:CEST
DTSTART:20260329T010000
END:DAYLIGHT
BEGIN:STANDARD
TZOFFSETFROM:+0200
TZOFFSETTO:+0100
TZNAME:CET
DTSTART:20261025T010000
END:STANDARD
BEGIN:DAYLIGHT
TZOFFSETFROM:+0100
TZOFFSETTO:+0200
TZNAME:CEST
DTSTART:20270328T010000
END:DAYLIGHT
BEGIN:STANDARD
TZOFFSETFROM:+0200
TZOFFSETTO:+0100
TZNAME:CET
DTSTART:20271031T010000
END:STANDARD
END:VTIMEZONE
BEGIN:VEVENT
DTSTART;TZID=Europe/Berlin:20260610T180000
DTEND;TZID=Europe/Berlin:20260610T203000
DTSTAMP:20260425T165021
CREATED:20260422T150617Z
LAST-MODIFIED:20260422T150648Z
UID:10000378-1781114400-1781123400@deutschland-brasilien.org
SUMMARY:Berlin | Buchvorstellung:  Carla Bessa "tage leben"
DESCRIPTION:In Zusammenarbeit mit: Deutsch-Brasilianische Gesellschaft e.V. \nCarla Bessa stellt ihr neues Buch vor und liest Passagen aus dem Werk.\nAls am 12. Juni 2000 in Rio de Janeiro der vollbesetzte Linienbus 174 überfallen wird\, steht die Welt still. Alle Augen sind auf die Geiselnahme gerichtet\, brasilianische wie internationale Medien verfolgen das Geschehen. Am nächsten Tag\, noch während die Hintergründe der Tat langsam Konturen annehmen und das Leben des in Polizeigewahrsam ermordeten Geiselnehmers durchleuchtet wird\, nimmt unweit davon ein weiteres tragisches Verbrechen seinen Lauf. Zwei Männer entführen und ermorden einen Autohändler\, ihr Opfer ist der Bruder Carla Bessas (Rio de Janeiro\, 1967). In ihrem Roman tage leben (2025) setzt sie die Ereignisse in Beziehung und findet – nicht einen Sinn – aber eine literarische Form für die Auseinandersetzung mit „zwei leben in zwei tagen“\, die lange vor den Junitagen im Jahr 2000 begonnen haben und lange danach immer noch Einfluss nehmen auf dasjenige der Autorin. \nSprache: Deutsch \nCarla Bessa ist 1967 in Rio de Janeiro geboren und lebt seit 1991 als bilinguale Schriftstellerin und Übersetzerin ins Portugiesische (u. a. Ingeborg Bachmann\, Max Frisch und Thomas Macho) zwischen Rio und Berlin. Ihr Erzählband Urubus\, der im Transit Verlag auch auf Deutsch erschien\, wurde 2020 mit dem Prêmio Jabuti (dem wichtigsten Literaturpreis in Brasilien)und dem Prêmio Literário Biblioteca Nacional ausgezeichnet.# \nVeranstalter: DBG und Iberoamerikanisches Institut
URL:https://deutschland-brasilien.org/veranstaltung/buchvorstellung-carla-bessa-tage-leben/
LOCATION:Ibero-Amerikanisches Institut\, Simón-Bolívar-Saal\, Potsdamer Str. 37\, 10785 Berlin\, Berlin\, Berlin\, 10785\, Germany
CATEGORIES:in Kooperation mit der DBG | em cooperação com a DBG
ATTACH;FMTTYPE=image/jpeg:https://deutschland-brasilien.org/wp-content/uploads/2026/04/8a5d8a16-92ba-4f9a-8472-fd3e9e1a695b.jpg
ORGANIZER;CN="Iberoamerikanisches Institut und DBG":MAILTO:ingridstarke@t-online.de
END:VEVENT
END:VCALENDAR