BEGIN:VCALENDAR
VERSION:2.0
PRODID:-//Deutsch-Brasilianische Gesellschaft e.V. - ECPv6.15.20//NONSGML v1.0//EN
CALSCALE:GREGORIAN
METHOD:PUBLISH
X-WR-CALNAME:Deutsch-Brasilianische Gesellschaft e.V.
X-ORIGINAL-URL:https://deutschland-brasilien.org
X-WR-CALDESC:Veranstaltungen für Deutsch-Brasilianische Gesellschaft e.V.
REFRESH-INTERVAL;VALUE=DURATION:PT1H
X-Robots-Tag:noindex
X-PUBLISHED-TTL:PT1H
BEGIN:VTIMEZONE
TZID:Europe/Berlin
BEGIN:DAYLIGHT
TZOFFSETFROM:+0100
TZOFFSETTO:+0200
TZNAME:CEST
DTSTART:20250330T010000
END:DAYLIGHT
BEGIN:STANDARD
TZOFFSETFROM:+0200
TZOFFSETTO:+0100
TZNAME:CET
DTSTART:20251026T010000
END:STANDARD
BEGIN:DAYLIGHT
TZOFFSETFROM:+0100
TZOFFSETTO:+0200
TZNAME:CEST
DTSTART:20260329T010000
END:DAYLIGHT
BEGIN:STANDARD
TZOFFSETFROM:+0200
TZOFFSETTO:+0100
TZNAME:CET
DTSTART:20261025T010000
END:STANDARD
BEGIN:DAYLIGHT
TZOFFSETFROM:+0100
TZOFFSETTO:+0200
TZNAME:CEST
DTSTART:20270328T010000
END:DAYLIGHT
BEGIN:STANDARD
TZOFFSETFROM:+0200
TZOFFSETTO:+0100
TZNAME:CET
DTSTART:20271031T010000
END:STANDARD
END:VTIMEZONE
BEGIN:VEVENT
DTSTART;TZID=Europe/Berlin:20260430T180000
DTEND;TZID=Europe/Berlin:20260430T193000
DTSTAMP:20260424T141013
CREATED:20260418T073533Z
LAST-MODIFIED:20260418T073534Z
UID:10000375-1777572000-1777577400@deutschland-brasilien.org
SUMMARY:Online-Vortrag | Vielsprachiges Brasilien: Pommerisch als Minderheitensprache/ o Brasil multilíngue: o pomerano como língua minoritária
DESCRIPTION:Die Regionalgruppe Brandenburg/Mecklenburg-Vorpommern der Deutsch-Brasilianische Gesellschaft lädt Sie herzlich zu einem besonderen Vortrag ein: \n„Vielsprachiges Brasilien: Pommerisch als Minderheitensprache/ o Brasil multilíngue: o pomerano como língua minoritária“ \nNachdem in der letzten Sitzung der Regionalgruppe Herr Haufe aus Greifswald und Herr Krüger aus Pomerode eine Klimapartnerschaft zwischen beiden Städten vorgestellt haben\, widmen wir uns nun linguistischen Aspekten und Gemeinsamkeiten dieser Regionen. \nBrasilien gilt als eines der sprachlich vielfältigsten Länder der Welt – existieren doch neben Portugiesisch zahlreiche weitere Sprachen\, die oft im Verborgenen bleiben. Eine davon ist das Pommerische\, das bis heute in bestimmten Regionen Brasiliens gesprochen wird und ein faszinierendes Beispiel für gelebte Mehrsprachigkeit und kulturelle Identität darstellt. \nWir freuen uns besonders\, Dr. Peter Rosenberg von der Kulturwissenschaftlichen Fakultät der Europa-Universität Viadrina in Frankfurt (Oder) gewonnen zu haben\, der Sie auf eine spannende Reise in diese besondere Sprachlandschaft mitnimmt. Er hat sich wissenschaftlich über viele Jahre mit Sprachvariationen und Dialekten\, Sprachwandel sowie Sprache und Identität befasst und ist Experte auf diesem Gebiet. \nIn seinem Vortrag beleuchtet er die Geschichte\, Entwicklung und aktuelle Situation des Pommerischen im brasilianischen Kontext und zeigt\, wie Sprache Migration\, Identität und kulturelles Erbe verbindet. \nZum Vortrag eingeladen sind alle Brasilien- und Sprach-Interessierte\, nicht nur Mitglieder der DBG. Der Vortrag ist auf Deutsch\, aber die Präsentation ist zweisprachig. \nDatum: 30.4.2026 18Uhr \nOnline über zoom: https://us06web.zoom.us/meetings/88299166013/invitations?signature=pUDeM7SVvxpICJdB5RdKUs2yTXw8j-6JCX1Es0r3wfA
URL:https://deutschland-brasilien.org/veranstaltung/online-vortrag-vielsprachiges-brasilien-pommerisch-als-minderheitensprache-o-brasil-multilingue-o-pomerano-como-lingua-minoritaria/
LOCATION:Online\, Bundesweit / Online
CATEGORIES:Wissenschaft | Ciências
ATTACH;FMTTYPE=image/jpeg:https://deutschland-brasilien.org/wp-content/uploads/2025/01/DBG_2024_dt_web.jpg
END:VEVENT
END:VCALENDAR