BEGIN:VCALENDAR
VERSION:2.0
PRODID:-//Deutsch-Brasilianische Gesellschaft e.V. - ECPv6.15.20//NONSGML v1.0//EN
CALSCALE:GREGORIAN
METHOD:PUBLISH
X-WR-CALNAME:Deutsch-Brasilianische Gesellschaft e.V.
X-ORIGINAL-URL:https://deutschland-brasilien.org
X-WR-CALDESC:Veranstaltungen für Deutsch-Brasilianische Gesellschaft e.V.
REFRESH-INTERVAL;VALUE=DURATION:PT1H
X-Robots-Tag:noindex
X-PUBLISHED-TTL:PT1H
BEGIN:VTIMEZONE
TZID:Europe/Berlin
BEGIN:DAYLIGHT
TZOFFSETFROM:+0100
TZOFFSETTO:+0200
TZNAME:CEST
DTSTART:20240331T010000
END:DAYLIGHT
BEGIN:STANDARD
TZOFFSETFROM:+0200
TZOFFSETTO:+0100
TZNAME:CET
DTSTART:20241027T010000
END:STANDARD
BEGIN:DAYLIGHT
TZOFFSETFROM:+0100
TZOFFSETTO:+0200
TZNAME:CEST
DTSTART:20250330T010000
END:DAYLIGHT
BEGIN:STANDARD
TZOFFSETFROM:+0200
TZOFFSETTO:+0100
TZNAME:CET
DTSTART:20251026T010000
END:STANDARD
BEGIN:DAYLIGHT
TZOFFSETFROM:+0100
TZOFFSETTO:+0200
TZNAME:CEST
DTSTART:20260329T010000
END:DAYLIGHT
BEGIN:STANDARD
TZOFFSETFROM:+0200
TZOFFSETTO:+0100
TZNAME:CET
DTSTART:20261025T010000
END:STANDARD
END:VTIMEZONE
BEGIN:VEVENT
DTSTART;TZID=Europe/Berlin:20250218T190000
DTEND;TZID=Europe/Berlin:20250218T203000
DTSTAMP:20260424T141450
CREATED:20250128T223539Z
LAST-MODIFIED:20250129T173242Z
UID:10000065-1739905200-1739910600@deutschland-brasilien.org
SUMMARY:Online-Workshop | Existenzgründung in Deutschland
DESCRIPTION:In diesem Online-Workshop erfahren die Teilnehmer in 1\,5 Stunden alles Wichtige zur Unternehmensgründung in Deutschland.\nAuf Portugiesisch wird im Workshop erklärt\, wie man ein Unternehmen legal und praktisch gründet\, welche Voraussetzungen erfüllt sein müssen und welche Kosten auf einen zukommen. \nDer Workshop wird von Adriane Rössler | MBA\, einer internationalen Unternehmensberaterin aus Passau\, geleitet. Mit ihrer Erfahrung aus über 40 Unternehmensgründungen in Deutschland in den letzten 6 Jahren teilt sie wertvolle Einblicke und echte Fallbeispiele mit den Teilnehmern. \nDieser Workshop richtet sich an ein breites Publikum\, das Interesse an der Gründung eines Unternehmens in Deutschland hat.\nBesonders geeignet ist er für: \n– Berufstätige\, die ihr eigenes Unternehmen als Nebentätigkeit starten möchten.\n– Studierende\, die frühzeitig unternehmerische Erfahrungen sammeln wollen.\n– Eltern in Elternzeit\, die ihre Zeit für ein eigenes Projekt nutzen möchten.\n– Hausfrauen und -männer\, die ein Nebengeschäft aufbauen möchten.\n– Alle\, die in Deutschland ein Unternehmen gründen wollen und die praktischen Schritte und Rahmenbedingungen verstehen möchten. \nDie Teilnahmegebühr für den Workshop beträgt 30 EUR.
URL:https://deutschland-brasilien.org/veranstaltung/existenzgruendung-in-deutschland/
LOCATION:Online\, Bundesweit / Online
CATEGORIES:Wirtschaft | Economia
ATTACH;FMTTYPE=image/png:https://deutschland-brasilien.org/wp-content/uploads/2025/01/Workshop-Gruendung-Adriane-Roessler.png
ORGANIZER;CN="Adriane R%C3%B6ssler":MAILTO:team@arkonsili.com
END:VEVENT
BEGIN:VEVENT
DTSTART;TZID=Europe/Berlin:20250218T140000
DTEND;TZID=Europe/Berlin:20250218T183000
DTSTAMP:20260424T141450
CREATED:20250121T091842Z
LAST-MODIFIED:20250121T091842Z
UID:10000059-1739887200-1739903400@deutschland-brasilien.org
SUMMARY:IHK Karlsruhe | Mercosur im Fokus: Chancen\, Herausforderungen und Kooperationen
DESCRIPTION:Der Mercosur\, bestehend aus den Staaten Argentinien\, Brasilien\, Paraguay\, Uruguay hat sich seit der Gründung 1991 zum bedeutendsten Wirtschaftsraum in Südamerika entwickelt (Bolivien ist noch kein Vollmitglied und Venezuela ist seit 2016 dauerhaft suspendiert). Mit einer Bevölkerung von über 300 Millionen Menschen und einem gemeinsamen Bruttoinlandsprodukt von etwa 2\,5 Billionen US-Dollar bietet die Mercosur Region immense Marktpotenziale\, birgt aber auch vielschichtige Herausforderungen. In einer Zeit globaler Unsicherheiten und wirtschaftlicher Umbrüche rückt die Frage der Kooperation zwischen Mercosur und Europa zunehmend in den Vordergrund. \nAm 18. Februar richten die IHK Karlsruhe gemeinsam mit der DIHK den Blick genau darauf und sprechen im Palais Biron in Baden-Baden über „Mercosur im Fokus: Chancen\, Herausforderungen und Kooperationen“. Das Highlight des Tages ist das moderierte Panel „Mercosur im Dialog: Perspektiven der Botschafter“\, bei dem die Botschafter der vier Länder zu Wort kommen. Ziel ist es\, Einblicke in die aktuellen politischen und wirtschaftlichen Entwicklungen in der Region zu geben und Potenziale für eine verstärkte Zusammenarbeit mit Europa aufzuzeigen. \nDie Veranstaltung richtet sich an Unternehmer\, Politik- und Wirtschaftsinteressierte sowie an alle\, die mehr über die Beziehungen zwischen Europa und Mercosur erfahren möchten. \nProgramm und Anmeldung: https://veranstaltungen.karlsruhe.ihk.de/b?p=mercosur2025
URL:https://deutschland-brasilien.org/veranstaltung/ihk-karlsruhe-mercosur-im-fokus-chancen-herausforderungen-und-kooperationen/
LOCATION:Palais Biron\, Lichtentaler Str. 92\, Baden-Baden\, Baden-Württemberg\, 76530
CATEGORIES:Politik und Recht | Política e direito,Wirtschaft | Economia
END:VEVENT
BEGIN:VEVENT
DTSTART;TZID=Europe/Berlin:20250211T190000
DTEND;TZID=Europe/Berlin:20250211T200000
DTSTAMP:20260424T141450
CREATED:20250202T193048Z
LAST-MODIFIED:20250202T193048Z
UID:10000068-1739300400-1739304000@deutschland-brasilien.org
SUMMARY:Münster | Geomuseum der Universität Münster | Vortragsreihe "Geos unterwegs": Eine Reise ins eiserne Herz Brasiliens
DESCRIPTION:Vortragsreihe “Geos unterwegs”: Eine Reise ins eiserne Herz Brasiliens \nDienstag 11.02.2025\, 19:00 → 20:00 Europe/Berlin\nFoyer (Geomuseum der Universität Münster) \nProf. Dr. Tillmann Buttschardt\, Institut für Landschaftsökologie \nDer Name des Bundesstaates Minas Gerais lässt sich übersetzen in Allgemeine Minen und deutet an\, welche Menge an Bodenschätzen hier in Zentralbrasilien lagern. Sie bilden das Rückgrat für die brasilianische Industrie und Exportwirtschaft. Der Eisenabbau in Minas Gerais erfolgt im Tagebau und verändert massiv die Landschaften. Ganze Bergketten verschwinden und mit ihnen wertvolle biodiverse\, alte Ökosysteme. Für die ökologische Planung stellt sich die Frage\, wie einerseits der Eisenerzabbau umweltverträglicher und andererseits die notwendigen Renaturierungen gestaltet werden können. \nDie Reise beginnt mit den Karsthöhlen des Peter Lund und ihren reichhaltigen archäologischen Funden. Von dort geht es in die Caraça Reserve mit unberührten\, aber von Brandrodung gefährdeten Gebirgsökosystemen. Genauer beleuchtet werden die Umweltauswirkungen des Bergbaus und welche Herangehensweisen der Minderung diskutiert werden. Weiter geht es über die Barockstadt Ouro Preto und endet in einer renaturierten Grube mit enormer Ausstrahlung INHOTIM: Botanischer Garten\, Kunstmuseum und Forschungsstandort. \nTillmann Buttschardt ist Geoökologe und hat eine Professur für Angewandte Landschaftsökologie und ökologische Planung. Zuvor hatte er an der Hochschule für Nachhaltige Entwicklung in Eberswalde eine Professur für Landschaftskunde inne. In seiner Forschung thematisiert er Mensch-Umweltsysteme\, Gewässerentwicklung und Agroökologie\, Naturschutzthemen und die ökologische Risikoanalyse. Er ist Mitglied des Brasilien-Zentrums der Universität Münster. \nAnmeldung: https://indico.uni-muenster.de/event/3135/registrations/3106/ \nQuelle: https://indico.uni-muenster.de/event/3135/
URL:https://deutschland-brasilien.org/veranstaltung/muenster-geomuseum-der-universitaet-muenster-vortragsreihe-geos-unterwegs-eine-reise-ins-eiserne-herz-brasiliens/
LOCATION:Geomuseum der Universität Münster\, Münster\, Nordrhein-Westfalen
CATEGORIES:Wirtschaft | Economia,Wissenschaft | Ciências
END:VEVENT
BEGIN:VEVENT
DTSTART;TZID=Europe/Berlin:20250205T140000
DTEND;TZID=Europe/Berlin:20250205T150000
DTSTAMP:20260424T141450
CREATED:20250114T151823Z
LAST-MODIFIED:20250121T092709Z
UID:10000051-1738764000-1738767600@deutschland-brasilien.org
SUMMARY:GTAI Webinar | Brasilien 2025 - Neue Gesetze und Wirtschaftsaussichten für Ihr Unternehmen
DESCRIPTION:Germany Trade & Invest veranstaltet ein Webinar zu wirtschaftsrechtlichen Entwicklungen sowie aktuellen Wirtschaftstrends in Brasilien im Jahr 2025. \nIn den letzten zwei Jahren wurden in Brasilien entscheidende Gesetzesänderungen durchgeführt. Als Vorreiter bei erneuerbaren Energien gewinnt Brasilien in der globalen Energiewende an Wettbewerbsfähigkeit. Dafür treibt die Regierung Strukturreformen voran und setzt Investitionsanreize zur Dekarbonisierung der Industrie. Außerdem gewinnt die künstliche Intelligenz zunehmend an rechtlicher Bedeutung. \nAuf der internationalen Bühne hat die EU-Kommission die Bedeutung des Landes für eine neue Geopolitik erkannt. Über das Handelsabkommen mit Brasilien und den anderen Mercosur-Staaten können die EU-Staaten ihre Versorgung mit Rohstoffen und grünen Technologien sichern. \nIn diesem Zusammenhang: Welche Herausforderungen und Chancen ergeben sich für deutsche Unternehmen? Um diese Frage zu beantworten\, bietet das Webinar einen Überblick über aktuelle Reformen und neue Gesetze sowie über die Wirtschaftsentwicklung im Jahr 2025. \nDas Webinar richtet sich an Unternehmen\, die bereits in Brasilien tätig sind oder dies beabsichtigen\, an Wirtschaftswissenschaftler:innen\, Jurist:innen\, Steuerberater:innen\, Studierende und alle\, die sich für Brasilien und Lateinamerika interessieren. \nPräsentation\n• Dr. Julio Pereira\, Manager im Bereich Ausländisches Wirtschaftsrecht bei GTAI in Berlin\n• Gloria Rose\, Director Brazil bei GTAI in São Paulo \nDie Teilnahme an dem Webinar ist kostenfrei\, lediglich eine Anmeldung ist erforderlich. \nQuelle:\nhttps://register.gotowebinar.com/register/34769200732591456?source=Rechtsmeldung\nhttps://www.gtai.de/de/trade/brasilien/recht/brasilien-legt-neue-methode-fuer-mindestlohnerhoehung-fest-1852306
URL:https://deutschland-brasilien.org/veranstaltung/brasilien-2025-neue-gesetze-und-wirtschaftsaussichten-fuer-ihr-unternehmen/
LOCATION:Online\, Bundesweit / Online
CATEGORIES:Wirtschaft | Economia
ATTACH;FMTTYPE=image/jpeg:https://deutschland-brasilien.org/wp-content/uploads/2025/01/logo.jpeg
END:VEVENT
BEGIN:VEVENT
DTSTART;TZID=Europe/Berlin:20250204T090000
DTEND;TZID=Europe/Berlin:20250204T180000
DTSTAMP:20260424T141450
CREATED:20250131T143310Z
LAST-MODIFIED:20250131T143310Z
UID:10000066-1738659600-1738692000@deutschland-brasilien.org
SUMMARY:Berlin | DIHK LAI Latin America Conference 2025
DESCRIPTION:Latin America Conference 2025 \nLatin America and the Caribbean: a region of great opportunities for German business! \nIn our disruptive times\, facing challenges like sustainable transformation\, increasing geoeconomic tension and foreign market fragmentation\, the countries between Tijuana and Tierra del Fuego offer an elsewhere unreached diversity of potentials for trade and investment. It’s time for exchange and encounters! The Latin America Conference will be held in German\, Spanish and Portuguese. \nSource: https://event.dihk.de/b?p=LAK2025#
URL:https://deutschland-brasilien.org/veranstaltung/berlin-dihk-lai-latin-america-conference-2025/
LOCATION:DIHK Berlin\, Berlin\, Berlin
CATEGORIES:Wirtschaft | Economia
ATTACH;FMTTYPE=image/jpeg:https://deutschland-brasilien.org/wp-content/uploads/2025/01/073567ab-da9f-4398-b460-e3bfc0eb1f5f.jpg
END:VEVENT
END:VCALENDAR